BEGIN:VCALENDAR
VERSION:2.0
PRODID:spatie/icalendar-generator
NAME:EIGHTY5ERS FGCS
X-WR-CALNAME:EIGHTY5ERS FGCS
DESCRIPTION:Events for EIGHTY5ERS FGCS
X-WR-CALDESC:Events for EIGHTY5ERS FGCS
BEGIN:VEVENT
UID:2529-1774688400-1774774800@oneworldautofix.com
SUMMARY:Mentorship Seminar
DESCRIPTION:Bridging the gap between past and present FGCS students.
LOCATION:30 Mobolaji Bank Anthony Way Ikeja\, Lagos 021189\, Lagos\, Lagos\
 , Lagos 100001\, Nigeria
URL:https://oneworldautofix.com/event/scholarship-mentorship-seminar/
DTSTART;TZID=Africa/Lagos:20260328T100000
DTEND;TZID=Africa/Lagos:20260329T100000
DTSTAMP;TZID=UTC:20260422T114347
ORGANIZER;CN=Reunion Committee:MAILTO:info@eighty5res.org
END:VEVENT
END:VCALENDAR