BEGIN:VCALENDAR
VERSION:2.0
PRODID:spatie/icalendar-generator
NAME:EIGHTY5ERS FGCS
X-WR-CALNAME:EIGHTY5ERS FGCS
DESCRIPTION:Events for EIGHTY5ERS FGCS
X-WR-CALDESC:Events for EIGHTY5ERS FGCS
BEGIN:VEVENT
UID:2511-1774825200-1775429940@oneworldautofix.com
SUMMARY:Topical Webinars
DESCRIPTION:Tapping into the wealth of knowledge in our community for the b
 enefit of all.
LOCATION:30 Mobolaji Bank Anthony Way Ikeja\, Lagos 021189\, Lagos\, Lagos\
 , Lagos 100001\, Nigeria
URL:https://oneworldautofix.com/event/2026-eight5ers-reunion/
DTSTART:20260330
DTEND:20260405
DTSTAMP:20260422T114118Z
ORGANIZER;CN=Reunion Committee:MAILTO:info@eighty5res.org
END:VEVENT
END:VCALENDAR